BEGIN:VCALENDAR
VERSION:2.0
PRODID:icalendar-ruby
CALSCALE:GREGORIAN
METHOD:PUBLISH
BEGIN:VEVENT
DTSTAMP:20260419T165018Z
UID:141-3610819@bethanyinthesault.com
DTSTART:20260512T230000Z
DTEND:20260513T003000Z
CLASS:PUBLIC
CREATED:20260416T113435
DESCRIPTION:We want to see our youth learn and live the abundant life that 
 Jesus came to offer! \nJoin us Tuesday evenings\, from 7 - 8:30 pm\, for 
 games\, teaching\, worship\, and opportunities to serve our church and lar
 ger community.
LAST-MODIFIED:20260416T113435
LOCATION:Bethany Baptist Church
SUMMARY:Youth Group
URL;VALUE=URI:https://www.bethanyinthesault.com/events/youth-group--141/202
 6-05-12
ATTACH;FILENAME=Youth---website-banner---1500x784.png;FMTTYPE=image/png:htt
 ps://dq5pwpg1q8ru0.cloudfront.net/2024/09/19/17/45/38/7122d650-c934-408e-a
 315-9de28e49eb89/Youth---website-banner---1500x784.png
END:VEVENT
END:VCALENDAR
