BEGIN:VCALENDAR
VERSION:2.0
PRODID:icalendar-ruby
CALSCALE:GREGORIAN
METHOD:PUBLISH
BEGIN:VEVENT
DTSTAMP:20260420T185819Z
UID:148-3661411@bethanyinthesault.com
DTSTART:20261011T151500Z
DTEND:20261011T160000Z
CLASS:PUBLIC
CREATED:20260420T141622
DESCRIPTION:Join us Sundays\, following the morning service\, to connect wi
 th others over coffee.\nThere's no cost and no need to RSVP\, just show up
  and join us.
LAST-MODIFIED:20260420T141622
LOCATION:
SUMMARY:Coffee & Connect
URL;VALUE=URI:https://www.bethanyinthesault.com/events/coffee-connect/2026-
 10-11
ATTACH;FILENAME=Coffee-%26-Connect---1500x784.png;FMTTYPE=image/png:https:/
 /dq5pwpg1q8ru0.cloudfront.net/2025/04/04/16/58/32/bc405ac6-74ed-4f01-aefc-
 73eb23134b45/Coffee-%2526-Connect---1500x784.png
END:VEVENT
END:VCALENDAR
